BEGIN:VCALENDAR
METHOD:PUBLISH
PRODID:-//github.com/rianjs/ical.net//NONSGML ical.net 4.0//EN
URL:https://www.thesubath.com/ents/event/ics/12038/
VERSION:2.0
X-PUBLISHED-TTL:PT1H
X-WR-CALNAME:V Repair - Induction Session (12038)
BEGIN:VTIMEZONE
TZID:GMT Standard Time
X-LIC-LOCATION:Europe/London
BEGIN:STANDARD
DTSTART:20241027T020000
RRULE:FREQ=YEARLY;BYDAY=4SU;BYMONTH=10
TZNAME:GMT
TZOFFSETFROM:+0100
TZOFFSETTO:+0000
END:STANDARD
BEGIN:DAYLIGHT
DTSTART:20250330T010000
RRULE:FREQ=YEARLY;BYDAY=-1SU;BYMONTH=3
TZNAME:BST
TZOFFSETFROM:+0000
TZOFFSETTO:+0100
END:DAYLIGHT
END:VTIMEZONE
BEGIN:VEVENT
CATEGORIES:Volunteering
CREATED:20211025T153453
DESCRIPTION:Join us to find out how you can support our repair cafe's no e
 xperience needed.\n\nhttps://www.thesubath.com/ents/event/12038/\n
DTEND:20211028T130500
DTSTAMP:20260422T085054Z
DTSTART:20211028T121500
LAST-MODIFIED:20211025T153453
LOCATION:Campus
SEQUENCE:0
SUMMARY:V Repair - Induction Session
UID:f4ff903d-bb28-479f-9aba-af01b038e70d
URL:https://www.thesubath.com/ents/event/12038/
X-ALT-DESC;FMTTYPE=text/html:<html><head><base href="https://www.thesubath
 .com"></head><body><p>Join us to find out how you can support our repair 
 cafe's no experience needed.</p><p>https://www.thesubath.com/ents/event/1
 2038/</p>\n<p>You can sign up for this project via the V Teams teams page
 .&nbsp\;</p>\n\n<p>You can sign up for this project via the V Teams teams
  page.&nbsp\;</p>\n\n<p><u><strong>Sign Up Process&nbsp\;</strong></u></p
 >\n\n<ul>\n	<li>www.thesubath.com/vteam buy a free membership&nbsp\;</li>
 \n	<li>Join V Team on Teams via the link in the membership email.&nbsp\;<
 /li>\n	<li>Sign up for the projects you want to participate in.&nbsp\;</l
 i>\n</ul></body></html>
END:VEVENT
END:VCALENDAR
