BEGIN:VCALENDAR
METHOD:PUBLISH
PRODID:-//github.com/rianjs/ical.net//NONSGML ical.net 4.0//EN
URL:https://www.thesubath.com/ents/event/ics/13339/
VERSION:2.0
X-PUBLISHED-TTL:PT1H
X-WR-CALNAME:Beginner Pole Taster Session (13339)
BEGIN:VTIMEZONE
TZID:GMT Standard Time
X-LIC-LOCATION:Europe/London
BEGIN:STANDARD
DTSTART:20241027T020000
RRULE:FREQ=YEARLY;BYDAY=4SU;BYMONTH=10
TZNAME:GMT
TZOFFSETFROM:+0100
TZOFFSETTO:+0000
END:STANDARD
BEGIN:DAYLIGHT
DTSTART:20250330T010000
RRULE:FREQ=YEARLY;BYDAY=-1SU;BYMONTH=3
TZNAME:BST
TZOFFSETFROM:+0000
TZOFFSETTO:+0100
END:DAYLIGHT
END:VTIMEZONE
BEGIN:VEVENT
CATEGORIES:Give it a go
CREATED:20220912T150856
DESCRIPTION:Please note you have to book to join this taster! Click more t
 o find out how. Perfect for a complete beginner. Come for a spin around a
  pole\, learn a fundamental move\, and meet others who have a similar int
 erest in fun fitness!\n\nhttps://www.thesubath.com/events/14298/13339/\n
DTEND:20220930T180000
DTSTAMP:20260421T032114Z
DTSTART:20220930T170000
LAST-MODIFIED:20220915T010414
LOCATION:Funky Monkey Studio\, 18A\, St Peters Terrace\, BA2 3BT
SEQUENCE:0
SUMMARY:Beginner Pole Taster Session
UID:b13a63cb-594a-4d6c-9a91-909322e28f81
URL:https://www.thesubath.com/events/14298/13339/
X-ALT-DESC;FMTTYPE=text/html:<html><head><base href="https://www.thesubath
 .com"></head><body><p>Please note you have to book to join this taster! C
 lick more to find out how. Perfect for a complete beginner. Come for a sp
 in around a pole\, learn a fundamental move\, and meet others who have a 
 similar interest in fun fitness!</p><p>https://www.thesubath.com/events/1
 4298/13339/</p>\n<p>If you like the sound of our amazing society\, why do
 n&rsquo\;t you come along to one of our taster sessions? Funky Monkey Stu
 dio\, one of the&nbsp\;pole studios in town that our society works closel
 y with\, is offering lots of sessions for you to try pole or aerial. Thes
 e tasters are first come first serve as the studio can have a maximum of&
 nbsp\;<b>10&nbsp\;students&nbsp\;</b>per session. To get to the studio fr
 om campus:&nbsp\;take a Uni of Bath bus to Lorne Road and then walk 3 min
 utes.&nbsp\;</p>\n\n<p>Price: &pound\;5&nbsp\;per taster</p>\n\n<p><b>Boo
 king a Taster:</b></p>\n\n<p>1.&nbsp\;Download the free app GymCatch or u
 se their desktop website (https://gymcatch.com/app/).</p>\n\n<p>2.&nbsp\;
 Create an account\,</p>\n\n<p>3.&nbsp\;Search &#39\;Funky Monkey&#39\; un
 der fitness providers.&nbsp\;</p>\n\n<p>4.&nbsp\;Click on &#39\;packages&
 #39\; and select PoleSoc Membership (it&#39\;s free!)&nbsp\;</p>\n\n<p>5.
 &nbsp\;You will now be able to see what&#39\;s on at the studio and book 
 onto tasters and classes.&nbsp\;</p>\n\n<p>6.&nbsp\;Click on the calendar
  and select which taster you would like to attend.</p>\n\n<p>7.&nbsp\;Cli
 ck &#39\;book&#39\; and pay&nbsp\;&pound\;5.</p>\n\n<p>8.&nbsp\;Show up a
 t your allotted time and have fun!</p>\n\n<p>For even more info check out
  our page <a href="https://www.thesubath.com/polesoc/tasters/">https://ww
 w.thesubath.com/polesoc/tasters/</a></p></body></html>
END:VEVENT
END:VCALENDAR
