BEGIN:VCALENDAR
METHOD:PUBLISH
PRODID:-//github.com/rianjs/ical.net//NONSGML ical.net 4.0//EN
URL:https://www.thesubath.com/ents/event/ics/13419/
VERSION:2.0
X-PUBLISHED-TTL:PT1H
X-WR-CALNAME:Have a Go (13419)
BEGIN:VTIMEZONE
TZID:GMT Standard Time
X-LIC-LOCATION:Europe/London
BEGIN:STANDARD
DTSTART:20241027T020000
RRULE:FREQ=YEARLY;BYDAY=4SU;BYMONTH=10
TZNAME:GMT
TZOFFSETFROM:+0100
TZOFFSETTO:+0000
END:STANDARD
BEGIN:DAYLIGHT
DTSTART:20250330T010000
RRULE:FREQ=YEARLY;BYDAY=-1SU;BYMONTH=3
TZNAME:BST
TZOFFSETFROM:+0000
TZOFFSETTO:+0100
END:DAYLIGHT
END:VTIMEZONE
BEGIN:VEVENT
CATEGORIES:Give it a go
CREATED:20220922T003239
DESCRIPTION:Interested in debating? Always win arguments? Trying to improv
 e your public speaking skills? Come along to one of our taster sessions! 
 Open to all levels of experience.\n\nhttps://www.thesubath.com/events/667
 1/13419/\n
DTEND:20221006T200500
DTSTAMP:20260421T060512Z
DTSTART:20221006T181500
LAST-MODIFIED:20220922T003239
LOCATION:Chancellors Building
SEQUENCE:0
SUMMARY:Have a Go
UID:7db70173-0518-4e84-8bde-4f34e3df040b
URL:https://www.thesubath.com/events/6671/13419/
X-ALT-DESC;FMTTYPE=text/html:<html><head><base href="https://www.thesubath
 .com"></head><body><p>Interested in debating? Always win arguments? Tryin
 g to improve your public speaking skills? Come along to one of our taster
  sessions! Open to all levels of experience.</p><p>https://www.thesubath.
 com/events/6671/13419/</p>\n</body></html>
END:VEVENT
END:VCALENDAR
