BEGIN:VCALENDAR
METHOD:PUBLISH
PRODID:-//github.com/rianjs/ical.net//NONSGML ical.net 4.0//EN
URL:https://www.thesubath.com/ents/event/ics/14074/
VERSION:2.0
X-PUBLISHED-TTL:PT1H
X-WR-CALNAME:Marhaba social! (14074)
BEGIN:VTIMEZONE
TZID:GMT Standard Time
X-LIC-LOCATION:Europe/London
BEGIN:STANDARD
DTSTART:20241027T020000
RRULE:FREQ=YEARLY;BYDAY=4SU;BYMONTH=10
TZNAME:GMT
TZOFFSETFROM:+0100
TZOFFSETTO:+0000
END:STANDARD
BEGIN:DAYLIGHT
DTSTART:20250330T010000
RRULE:FREQ=YEARLY;BYDAY=-1SU;BYMONTH=3
TZNAME:BST
TZOFFSETFROM:+0000
TZOFFSETTO:+0100
END:DAYLIGHT
END:VTIMEZONE
BEGIN:VEVENT
CREATED:20221010T124340
DESCRIPTION:https://www.thesubath.com/events/25068/14074/\n
DTEND:20221012T220000
DTSTAMP:20260422T234243Z
DTSTART:20221012T190000
LAST-MODIFIED:20221012T094509
LOCATION:Earl Shisha Terrace\, 10 Manvers St\, Bath\, BA11JQ
SEQUENCE:0
SUMMARY:Marhaba social!
UID:4cd2215e-0565-494d-abdc-86691ba8d9e6
URL:https://www.thesubath.com/events/25068/14074/
X-ALT-DESC;FMTTYPE=text/html:<html><head><base href="https://www.thesubath
 .com"></head><body><p>https://www.thesubath.com/events/25068/14074/</p>\n
 <p><strong>Join us for our first offical social of the Year!</strong></p>
 \n\n<p>Our famous:&nbsp\;&nbsp\;MARHABA SOCIAL!<br />\n<br />\nJoin us ne
 xt Wednesday at 7 pm at the Earl Shisha Terrace&nbsp\;for a great social!
 <br />\n<br />\nEveryone is welcome!<br />\nFree entrance guaranteed for 
 Arabs and non-Arabs so feel free to bring your friends.<br />\n<br />\nJo
 in us for Arabic music\, Tawla\, Cards and much more!</p>\n\n<p>See you a
 ll Wednesday!!</p></body></html>
END:VEVENT
END:VCALENDAR
