BEGIN:VCALENDAR
METHOD:PUBLISH
PRODID:-//github.com/rianjs/ical.net//NONSGML ical.net 4.0//EN
URL:https://www.thesubath.com/ents/event/ics/14152/
VERSION:2.0
X-PUBLISHED-TTL:PT1H
X-WR-CALNAME:Mixed Recreational Basketball (14152)
BEGIN:VTIMEZONE
TZID:GMT Standard Time
X-LIC-LOCATION:Europe/London
BEGIN:STANDARD
DTSTART:20241027T020000
RRULE:FREQ=YEARLY;BYDAY=4SU;BYMONTH=10
TZNAME:GMT
TZOFFSETFROM:+0100
TZOFFSETTO:+0000
END:STANDARD
BEGIN:DAYLIGHT
DTSTART:20250330T010000
RRULE:FREQ=YEARLY;BYDAY=-1SU;BYMONTH=3
TZNAME:BST
TZOFFSETFROM:+0000
TZOFFSETTO:+0100
END:DAYLIGHT
END:VTIMEZONE
BEGIN:VEVENT
CREATED:20221017T121049
DESCRIPTION:Come along for some recreational basketball\, all you need is 
 the £10 basketball membership!\n\nhttps://www.thesubath.com/events/6195/1
 4152/\n
DTEND:20221213T160000
DTSTAMP:20260419T210715Z
DTSTART:20221213T130000
LAST-MODIFIED:20221017T121049
LOCATION:Founders Hall
SEQUENCE:0
SUMMARY:Mixed Recreational Basketball
UID:2b7f6fd0-6329-43cf-b76c-3aa4df782a2c
URL:https://www.thesubath.com/events/6195/14152/
X-ALT-DESC;FMTTYPE=text/html:<html><head><base href="https://www.thesubath
 .com"></head><body><p>Come along for some recreational basketball\, all y
 ou need is the £10 basketball membership!</p><p>https://www.thesubath.com
 /events/6195/14152/</p>\n</body></html>
END:VEVENT
END:VCALENDAR
