BEGIN:VCALENDAR
METHOD:PUBLISH
PRODID:-//github.com/rianjs/ical.net//NONSGML ical.net 4.0//EN
URL:https://www.thesubath.com/ents/event/ics/15741/
VERSION:2.0
X-PUBLISHED-TTL:PT1H
X-WR-CALNAME:Give it a go (Meet and Greet ) (15741)
BEGIN:VTIMEZONE
TZID:GMT Standard Time
X-LIC-LOCATION:Europe/London
BEGIN:STANDARD
DTSTART:20241027T020000
RRULE:FREQ=YEARLY;BYDAY=4SU;BYMONTH=10
TZNAME:GMT
TZOFFSETFROM:+0100
TZOFFSETTO:+0000
END:STANDARD
BEGIN:DAYLIGHT
DTSTART:20250330T010000
RRULE:FREQ=YEARLY;BYDAY=-1SU;BYMONTH=3
TZNAME:BST
TZOFFSETFROM:+0000
TZOFFSETTO:+0100
END:DAYLIGHT
END:VTIMEZONE
BEGIN:VEVENT
CREATED:20230918T190123
DESCRIPTION:Our first event of the year!!!\nThis event is where we introdu
 ce the committee\, coming events\, goals of the society etc. It is also t
 he best event to make friends! (It is made for that.)\n\nhttps://www.thes
 ubath.com/events/25068/15741/\n
DTEND:20230928T191500
DTSTAMP:20260422T234031Z
DTSTART:20230928T171500
LAST-MODIFIED:20230926T100507
LOCATION:3WN 3.7
SEQUENCE:0
SUMMARY:Give it a go (Meet and Greet )
UID:5d0c74a0-2972-4ae0-b4b5-1d5a260e694d
URL:https://www.thesubath.com/events/25068/15741/
X-ALT-DESC;FMTTYPE=text/html:<html><head><base href="https://www.thesubath
 .com"></head><body><p>Our first event of the year!!!\nThis event is where
  we introduce the committee\, coming events\, goals of the society etc. I
 t is also the best event to make friends! (It is made for that.)</p><p>ht
 tps://www.thesubath.com/events/25068/15741/</p>\n</body></html>
END:VEVENT
END:VCALENDAR
