BEGIN:VCALENDAR
METHOD:PUBLISH
PRODID:-//github.com/rianjs/ical.net//NONSGML ical.net 4.0//EN
URL:https://www.thesubath.com/ents/event/ics/1738/
VERSION:2.0
X-PUBLISHED-TTL:PT1H
X-WR-CALNAME:Christmas Concert (1738)
BEGIN:VTIMEZONE
TZID:GMT Standard Time
X-LIC-LOCATION:Europe/London
BEGIN:STANDARD
DTSTART:20241027T020000
RRULE:FREQ=YEARLY;BYDAY=4SU;BYMONTH=10
TZNAME:GMT
TZOFFSETFROM:+0100
TZOFFSETTO:+0000
END:STANDARD
BEGIN:DAYLIGHT
DTSTART:20250330T010000
RRULE:FREQ=YEARLY;BYDAY=-1SU;BYMONTH=3
TZNAME:BST
TZOFFSETFROM:+0000
TZOFFSETTO:+0100
END:DAYLIGHT
END:VTIMEZONE
BEGIN:VEVENT
CREATED:20110701T222705
DESCRIPTION:Come join us in our Christmas Festivities!\n\nhttps://www.thes
 ubath.com/events/6797/1738/\n
DTEND:20111210T210000
DTSTAMP:20260425T163337Z
DTSTART:20111210T193000
LAST-MODIFIED:20201217T102853
LOCATION:Ascension Church\, Claude Avenue\, Oldfield Park\, Bath
SEQUENCE:0
SUMMARY:Christmas Concert
UID:28de7b6f-e574-48c4-b584-99b6d7858b87
URL:https://www.thesubath.com/events/6797/1738/
X-ALT-DESC;FMTTYPE=text/html:<html><head><base href="https://www.thesubath
 .com"></head><body><p>Come join us in our Christmas Festivities!</p><p>ht
 tps://www.thesubath.com/events/6797/1738/</p>\n<p>\n	&nbsp\;</p>\n<p>\n	C
 ome and join us for an evening of music at our Christmas Concert. The con
 cert will feature some festive music from all of our ensembles\, and mine
  pies and mulled wine will be provided.</p>\n<p>\n	Tickets are available 
 from ICIA and will be &pound\;4 in Advance or &pound\;5 on the day.</p>\n
 <p>\n	<a href="http://www.bath.ac.uk/icia/events/?page=event&amp\;art_for
 m=Music&amp\;event_id=490">Click here for tickets</a></p>\n<p>\n	&nbsp\;<
 /p>\n<p>\n	Our programme will include:</p>\n<p>\n	<strong>Orchestra</stro
 ng></p>\n<p>\n	The Snowman Suite by Howard Blake arr. Noel&nbsp\; Beagen.
 </p>\n<p>\n	1: Music Box Dance\,&nbsp\;</p>\n<p>\n	2: Motor Bike Gallop/W
 alking in the Air\,&nbsp\;</p>\n<p>\n	3: Dance of the Snowmen.</p>\n<p>\n
 	<strong>Concert Band</strong></p>\n<p>\n	* Christmas Festival Arr. Leroy
  Anderson</p>\n<p>\n	* Toccata and Fugue in D Minor by Bach</p>\n<p>\n	* 
 Troika by Prokofiev Arr. Jake Dyer</p>\n<p>\n	* Fate of the Gods by Steve
 n Reineke</p>\n<p>\n	<strong>Big Band</strong></p>\n<p>\n	* Theme from Fa
 mily Guy by Walter Murphy</p>\n<p>\n	* Pennsylvannia 65000 by Jerry Gray 
 and Carl Sigman&nbsp\;</p>\n<p>\n	* Christmas Jazz Suite&nbsp\;</p>\n<p>\
 n	*Hunting Wabbits</p>\n<p>\n	* Count Bubba</p>\n<p>\n	<strong>GASP </str
 ong></p>\n<p>\n	* We Wish You a Merry Christmas Traditional</p>\n<p>\n	* 
 I wish it could be Christmas Every day by Roy Wood</p>\n<p>\n	* Help by L
 ennon and McCartney</p>\n<p>\n	<strong>Choir </strong></p>\n<p>\n	* O hol
 y night by Adolphe Adam</p>\n<p>\n	* Laudate Dominum by WA Mozart</p>\n<p
 >\n	* Cowboy Carol</p>\n<p>\n	&nbsp\;</p>\n<p>\n	Along with some audience
  carols</p></body></html>
END:VEVENT
END:VCALENDAR
