BEGIN:VCALENDAR
METHOD:PUBLISH
PRODID:-//github.com/rianjs/ical.net//NONSGML ical.net 4.0//EN
URL:https://www.thesubath.com/ents/event/ics/18789/
VERSION:2.0
X-PUBLISHED-TTL:PT1H
X-WR-CALNAME:Filipino Games Night (18789)
BEGIN:VTIMEZONE
TZID:GMT Standard Time
X-LIC-LOCATION:Europe/London
BEGIN:STANDARD
DTSTART:20241027T020000
RRULE:FREQ=YEARLY;BYDAY=4SU;BYMONTH=10
TZNAME:GMT
TZOFFSETFROM:+0100
TZOFFSETTO:+0000
END:STANDARD
BEGIN:DAYLIGHT
DTSTART:20250330T010000
RRULE:FREQ=YEARLY;BYDAY=-1SU;BYMONTH=3
TZNAME:BST
TZOFFSETFROM:+0000
TZOFFSETTO:+0100
END:DAYLIGHT
END:VTIMEZONE
BEGIN:VEVENT
CATEGORIES:Free
CREATED:20240921T004000
DESCRIPTION:Get ready for a night full of Filipino games and fun!\n\nhttps
 ://www.thesubath.com/events/49105/18789/\n
DTEND:20240927T200000
DTSTAMP:20260420T012430Z
DTSTART:20240927T163000
LAST-MODIFIED:20240922T193645
LOCATION:CB 4.16
SEQUENCE:0
SUMMARY:Filipino Games Night
UID:3e6434e1-3214-4efb-8648-1ce8c27e2607
URL:https://www.thesubath.com/events/49105/18789/
X-ALT-DESC;FMTTYPE=text/html:<html><head><base href="https://www.thesubath
 .com"></head><body><p>Get ready for a night full of Filipino games and fu
 n!</p><p>https://www.thesubath.com/events/49105/18789/</p>\n<p>We&#39\;re
  kicking off this year&nbsp\;with our much loved Filipino Games Night inc
 luding classics such as charades and newspaper dance (with a twist). Whet
 her you&#39\;re returning or this is your first Filsoc event\, join us fo
 r a night of excitement\, laughter\, and friendly competition. Feel free 
 to bring your friends or come along to make new ones!&nbsp\;Snacks and re
 freshments will be provided\, and there might be one or two prizes to cla
 im if you&#39\;re lucky...&nbsp\;</p></body></html>
END:VEVENT
END:VCALENDAR
