BEGIN:VCALENDAR
METHOD:PUBLISH
PRODID:-//github.com/rianjs/ical.net//NONSGML ical.net 4.0//EN
URL:https://www.thesubath.com/ents/event/ics/18791/
VERSION:2.0
X-PUBLISHED-TTL:PT1H
X-WR-CALNAME:Games Night Collab - ArabSoc\, ISOC\, BanglaSoc\, PersianSoc\
 , PakSoc (18791)
BEGIN:VTIMEZONE
TZID:GMT Standard Time
X-LIC-LOCATION:Europe/London
BEGIN:STANDARD
DTSTART:20241027T020000
RRULE:FREQ=YEARLY;BYDAY=4SU;BYMONTH=10
TZNAME:GMT
TZOFFSETFROM:+0100
TZOFFSETTO:+0000
END:STANDARD
BEGIN:DAYLIGHT
DTSTART:20250330T010000
RRULE:FREQ=YEARLY;BYDAY=-1SU;BYMONTH=3
TZNAME:BST
TZOFFSETFROM:+0000
TZOFFSETTO:+0100
END:DAYLIGHT
END:VTIMEZONE
BEGIN:VEVENT
CREATED:20240921T085156
DESCRIPTION:https://www.thesubath.com/events/25068/18791/\n
DTEND:20240926T220000
DTSTAMP:20260422T235203Z
DTSTART:20240926T193000
LAST-MODIFIED:20240921T085156
LOCATION:1W2.101
SEQUENCE:0
SUMMARY:Games Night Collab - ArabSoc\, ISOC\, BanglaSoc\, PersianSoc\, Pak
 Soc
UID:c6f7469a-9294-488e-bdd3-c641e4f0f9a4
URL:https://www.thesubath.com/events/25068/18791/
X-ALT-DESC;FMTTYPE=text/html:<html><head><base href="https://www.thesubath
 .com"></head><body><p>https://www.thesubath.com/events/25068/18791/</p>\n
 </body></html>
END:VEVENT
END:VCALENDAR
