BEGIN:VCALENDAR
METHOD:PUBLISH
PRODID:-//github.com/rianjs/ical.net//NONSGML ical.net 4.0//EN
URL:https://www.thesubath.com/ents/event/ics/18793/
VERSION:2.0
X-PUBLISHED-TTL:PT1H
X-WR-CALNAME:Men’s Football (18793)
BEGIN:VTIMEZONE
TZID:GMT Standard Time
X-LIC-LOCATION:Europe/London
BEGIN:STANDARD
DTSTART:20241027T020000
RRULE:FREQ=YEARLY;BYDAY=4SU;BYMONTH=10
TZNAME:GMT
TZOFFSETFROM:+0100
TZOFFSETTO:+0000
END:STANDARD
BEGIN:DAYLIGHT
DTSTART:20250330T010000
RRULE:FREQ=YEARLY;BYDAY=-1SU;BYMONTH=3
TZNAME:BST
TZOFFSETFROM:+0000
TZOFFSETTO:+0100
END:DAYLIGHT
END:VTIMEZONE
BEGIN:VEVENT
CREATED:20240921T090024
DESCRIPTION:https://www.thesubath.com/events/25068/18793/\n
DTEND:20240927T220000
DTSTAMP:20260422T234126Z
DTSTART:20240927T210000
LAST-MODIFIED:20240921T090024
LOCATION:Astros Pitches
SEQUENCE:0
SUMMARY:Men’s Football
UID:0cf292b5-4135-424b-85ed-31745a1d4902
URL:https://www.thesubath.com/events/25068/18793/
X-ALT-DESC;FMTTYPE=text/html:<html><head><base href="https://www.thesubath
 .com"></head><body><p>https://www.thesubath.com/events/25068/18793/</p>\n
 </body></html>
END:VEVENT
END:VCALENDAR
