BEGIN:VCALENDAR
METHOD:PUBLISH
PRODID:-//github.com/rianjs/ical.net//NONSGML ical.net 4.0//EN
URL:https://www.thesubath.com/ents/event/ics/18794/
VERSION:2.0
X-PUBLISHED-TTL:PT1H
X-WR-CALNAME:Bath City Tour (18794)
BEGIN:VTIMEZONE
TZID:GMT Standard Time
X-LIC-LOCATION:Europe/London
BEGIN:STANDARD
DTSTART:20241027T020000
RRULE:FREQ=YEARLY;BYDAY=4SU;BYMONTH=10
TZNAME:GMT
TZOFFSETFROM:+0100
TZOFFSETTO:+0000
END:STANDARD
BEGIN:DAYLIGHT
DTSTART:20250330T010000
RRULE:FREQ=YEARLY;BYDAY=-1SU;BYMONTH=3
TZNAME:BST
TZOFFSETFROM:+0000
TZOFFSETTO:+0100
END:DAYLIGHT
END:VTIMEZONE
BEGIN:VEVENT
CREATED:20240921T090126
DESCRIPTION:https://www.thesubath.com/events/25068/18794/\n
DTEND:20240928T150000
DTSTAMP:20260422T235147Z
DTSTART:20240928T120000
LAST-MODIFIED:20240921T091129
LOCATION:Arrival Square (Campus Bus Stop) or Dorchester Street Bus Stop
SEQUENCE:0
SUMMARY:Bath City Tour
UID:6488110b-1d3c-4232-8bba-473f20d2d787
URL:https://www.thesubath.com/events/25068/18794/
X-ALT-DESC;FMTTYPE=text/html:<html><head><base href="https://www.thesubath
 .com"></head><body><p>https://www.thesubath.com/events/25068/18794/</p>\n
 </body></html>
END:VEVENT
END:VCALENDAR
