BEGIN:VCALENDAR
METHOD:PUBLISH
PRODID:-//github.com/rianjs/ical.net//NONSGML ical.net 4.0//EN
URL:https://www.thesubath.com/ents/event/ics/18838/
VERSION:2.0
X-PUBLISHED-TTL:PT1H
X-WR-CALNAME:SikhSoc Welcome Social (18838)
BEGIN:VTIMEZONE
TZID:GMT Standard Time
X-LIC-LOCATION:Europe/London
BEGIN:STANDARD
DTSTART:20241027T020000
RRULE:FREQ=YEARLY;BYDAY=4SU;BYMONTH=10
TZNAME:GMT
TZOFFSETFROM:+0100
TZOFFSETTO:+0000
END:STANDARD
BEGIN:DAYLIGHT
DTSTART:20250330T010000
RRULE:FREQ=YEARLY;BYDAY=-1SU;BYMONTH=3
TZNAME:BST
TZOFFSETFROM:+0000
TZOFFSETTO:+0100
END:DAYLIGHT
END:VTIMEZONE
BEGIN:VEVENT
CATEGORIES:Cultural Event
CREATED:20240922T170937
DESCRIPTION:Join Bath Sikh Soc for our first social event of the year!\n\n
 https://www.thesubath.com/events/46746/18838/\n
DTEND:20240927T183000
DTSTAMP:20260423T120935Z
DTSTART:20240927T140000
LAST-MODIFIED:20240922T170937
LOCATION:CB 5.8
SEQUENCE:0
SUMMARY:SikhSoc Welcome Social
UID:40c47ff4-ce96-4bf2-8dfc-1c84045ab95d
URL:https://www.thesubath.com/events/46746/18838/
X-ALT-DESC;FMTTYPE=text/html:<html><head><base href="https://www.thesubath
 .com"></head><body><p>Join Bath Sikh Soc for our first social event of th
 e year!</p><p>https://www.thesubath.com/events/46746/18838/</p>\n<p>Join 
 us for our first event of the year with a range of icebreaker games\, a u
 ni tour and Rehraas Sahib followed by Kirtan and Simran Jaap!</p>\n\n<p>T
 his is going to be a great chance to meet current and new members\, ask q
 uestions about the Soc and life at Bath and calm your mind before the sta
 rt of a new year!</p></body></html>
END:VEVENT
END:VCALENDAR
