BEGIN:VCALENDAR
METHOD:PUBLISH
PRODID:-//github.com/rianjs/ical.net//NONSGML ical.net 4.0//EN
URL:https://www.thesubath.com/ents/event/ics/20227/
VERSION:2.0
X-PUBLISHED-TTL:PT1H
X-WR-CALNAME:Martabak Night (20227)
BEGIN:VTIMEZONE
TZID:GMT Standard Time
X-LIC-LOCATION:Europe/London
BEGIN:STANDARD
DTSTART:20241027T020000
RRULE:FREQ=YEARLY;BYDAY=4SU;BYMONTH=10
TZNAME:GMT
TZOFFSETFROM:+0100
TZOFFSETTO:+0000
END:STANDARD
BEGIN:DAYLIGHT
DTSTART:20250330T010000
RRULE:FREQ=YEARLY;BYDAY=-1SU;BYMONTH=3
TZNAME:BST
TZOFFSETFROM:+0000
TZOFFSETTO:+0100
END:DAYLIGHT
END:VTIMEZONE
BEGIN:VEVENT
CATEGORIES:Cultural Event
CATEGORIES:Ticketed
CREATED:20250225T141326
DESCRIPTION:https://www.thesubath.com/events/52173/20227/\n
DTEND:20250307T210000
DTSTAMP:20260423T152738Z
DTSTART:20250307T190000
LAST-MODIFIED:20250227T111041
LOCATION:18 Stoneworks Spring Wharf\, Roseberry Road\, BA2 3GT
SEQUENCE:0
SUMMARY:Martabak Night
UID:a9394f2d-a02d-4cf1-8591-82f70b6702e4
URL:https://www.thesubath.com/events/52173/20227/
X-ALT-DESC;FMTTYPE=text/html:<html><head><base href="https://www.thesubath
 .com"></head><body><p>https://www.thesubath.com/events/52173/20227/</p>\n
 <p>Since you all loved our dumpling event last semester\, we&rsquo\;re ho
 lding another cooking and social event where we will be making one of the
  most beloved Indonesian dessert Martabak! It will be a great way to get 
 to know other members in the society and relax.&nbsp\;&nbsp\;</p></body><
 /html>
END:VEVENT
END:VCALENDAR
