BEGIN:VCALENDAR
METHOD:PUBLISH
PRODID:-//github.com/rianjs/ical.net//NONSGML ical.net 4.0//EN
URL:https://www.thesubath.com/ents/event/ics/20366/
VERSION:2.0
X-PUBLISHED-TTL:PT1H
X-WR-CALNAME:BathMUN Weekly Session (20366)
BEGIN:VTIMEZONE
TZID:GMT Standard Time
X-LIC-LOCATION:Europe/London
BEGIN:STANDARD
DTSTART:20241027T020000
RRULE:FREQ=YEARLY;BYDAY=4SU;BYMONTH=10
TZNAME:GMT
TZOFFSETFROM:+0100
TZOFFSETTO:+0000
END:STANDARD
BEGIN:DAYLIGHT
DTSTART:20250330T010000
RRULE:FREQ=YEARLY;BYDAY=-1SU;BYMONTH=3
TZNAME:BST
TZOFFSETFROM:+0000
TZOFFSETTO:+0100
END:DAYLIGHT
END:VTIMEZONE
BEGIN:VEVENT
CREATED:20250404T191315
DESCRIPTION:Join us for our weekly training session debate!\n\nhttps://www
 .thesubath.com/events/11564/20366/\n
DTEND:20250429T200500
DTSTAMP:20260422T084943Z
DTSTART:20250429T181500
LAST-MODIFIED:20250404T191315
LOCATION:CB5.6\, Chancellors' Building
SEQUENCE:0
SUMMARY:BathMUN Weekly Session
UID:b85a6172-9d1a-4594-9dc1-857bbcd3a2a4
URL:https://www.thesubath.com/events/11564/20366/
X-ALT-DESC;FMTTYPE=text/html:<html><head><base href="https://www.thesubath
 .com"></head><body><p>Join us for our weekly training session debate!</p>
 <p>https://www.thesubath.com/events/11564/20366/</p>\n</body></html>
END:VEVENT
END:VCALENDAR
