BEGIN:VCALENDAR
METHOD:PUBLISH
PRODID:-//github.com/rianjs/ical.net//NONSGML ical.net 4.0//EN
URL:https://www.thesubath.com/ents/event/ics/22776/
VERSION:2.0
X-PUBLISHED-TTL:PT1H
X-WR-CALNAME:End of Year Picnic + Pub Crawl! (22776)
BEGIN:VTIMEZONE
TZID:GMT Standard Time
X-LIC-LOCATION:Europe/London
BEGIN:STANDARD
DTSTART:20241027T020000
RRULE:FREQ=YEARLY;BYDAY=4SU;BYMONTH=10
TZNAME:GMT
TZOFFSETFROM:+0100
TZOFFSETTO:+0000
END:STANDARD
BEGIN:DAYLIGHT
DTSTART:20250330T010000
RRULE:FREQ=YEARLY;BYDAY=-1SU;BYMONTH=3
TZNAME:BST
TZOFFSETFROM:+0000
TZOFFSETTO:+0100
END:DAYLIGHT
END:VTIMEZONE
BEGIN:VEVENT
CATEGORIES:Ticketed
CREATED:20260420T130127
DESCRIPTION:Join ACE for our final social of the year... Picnic and Pub Cr
 awl! We will start in Victoria Park at 2pm\, with picnic food and refresh
 ments. Please buy a ticket to have some of the food\, as ticket sales wil
 l allow us to buy more! BYOB however.\n\nhttps://www.thesubath.com/ents/e
 vent/22776/\n
DTEND:20260502T200000
DTSTAMP:20260421T043848Z
DTSTART:20260502T140000
LAST-MODIFIED:20260420T203249
LOCATION:Victoria Park
SEQUENCE:0
SUMMARY:End of Year Picnic + Pub Crawl!
UID:c7b0b936-99c3-451e-8898-3099141d3df7
URL:https://www.thesubath.com/ents/event/22776/
X-ALT-DESC;FMTTYPE=text/html:<html><head><base href="https://www.thesubath
 .com"></head><body><p>Join ACE for our final social of the year... Picnic
  and Pub Crawl! We will start in Victoria Park at 2pm\, with picnic food 
 and refreshments. Please buy a ticket to have some of the food\, as ticke
 t sales will allow us to buy more! BYOB however.</p><p>https://www.thesub
 ath.com/ents/event/22776/</p>\n<p>&lt\;p&gt\;</p>\n\n<p>Join ACE for our 
 final social of the year... Picnic and Pub Crawl!</p>\n\n<p>We will start
  in Victoria Park at 2pm\, with picnic food and refreshments\, then head 
 to town for a pub crawl until the evening!&nbsp\;</p>\n\n<p>Please buy a 
 ticket to have some of the food\, as ticket sales will allow us to buy mo
 re food! BYOB however.&lt\;/p&gt\;</p></body></html>
END:VEVENT
END:VCALENDAR
