BEGIN:VCALENDAR
METHOD:PUBLISH
PRODID:-//github.com/rianjs/ical.net//NONSGML ical.net 4.0//EN
URL:https://www.thesubath.com/ents/event/ics/22778/
VERSION:2.0
X-PUBLISHED-TTL:PT1H
X-WR-CALNAME:Faith & The Future of the Planet (22778)
BEGIN:VTIMEZONE
TZID:GMT Standard Time
X-LIC-LOCATION:Europe/London
BEGIN:STANDARD
DTSTART:20241027T020000
RRULE:FREQ=YEARLY;BYDAY=4SU;BYMONTH=10
TZNAME:GMT
TZOFFSETFROM:+0100
TZOFFSETTO:+0000
END:STANDARD
BEGIN:DAYLIGHT
DTSTART:20250330T010000
RRULE:FREQ=YEARLY;BYDAY=-1SU;BYMONTH=3
TZNAME:BST
TZOFFSETFROM:+0000
TZOFFSETTO:+0100
END:DAYLIGHT
END:VTIMEZONE
BEGIN:VEVENT
CATEGORIES:Cultural Event
CREATED:20260422T091119
DESCRIPTION:The Bishop Michael and the Imam Mohammed will come to the univ
 ersity to discuss the relationship between religion and stewardship throu
 gh the lenses of Christianity and Islam\n\nhttps://www.thesubath.com/ents
 /event/22778/\n
DTEND:20260428T200000
DTSTAMP:20260423T024555Z
DTSTART:20260428T180000
LAST-MODIFIED:20260422T112716
LOCATION:8 West 3.22
SEQUENCE:0
SUMMARY:Faith & The Future of the Planet
UID:dc3c111a-58de-481d-9520-ecdf8975b693
URL:https://www.thesubath.com/ents/event/22778/
X-ALT-DESC;FMTTYPE=text/html:<html><head><base href="https://www.thesubath
 .com"></head><body><p>The Bishop Michael and the Imam Mohammed will come 
 to the university to discuss the relationship between religion and stewar
 dship through the lenses of Christianity and Islam</p><p>https://www.thes
 ubath.com/ents/event/22778/</p>\n<p>The Bishop Michael and the Imam Moham
 med will come to the university to discuss the relationship between relig
 ion and stewardship through the lenses of Christianity and Islam</p></bod
 y></html>
END:VEVENT
END:VCALENDAR
