BEGIN:VCALENDAR
METHOD:PUBLISH
PRODID:-//github.com/rianjs/ical.net//NONSGML ical.net 4.0//EN
URL:https://www.thesubath.com/ents/event/ics/22779/
VERSION:2.0
X-PUBLISHED-TTL:PT1H
X-WR-CALNAME:Life Sciences Revision Cafe! (22779)
BEGIN:VTIMEZONE
TZID:GMT Standard Time
X-LIC-LOCATION:Europe/London
BEGIN:STANDARD
DTSTART:20241027T020000
RRULE:FREQ=YEARLY;BYDAY=4SU;BYMONTH=10
TZNAME:GMT
TZOFFSETFROM:+0100
TZOFFSETTO:+0000
END:STANDARD
BEGIN:DAYLIGHT
DTSTART:20250330T010000
RRULE:FREQ=YEARLY;BYDAY=-1SU;BYMONTH=3
TZNAME:BST
TZOFFSETFROM:+0000
TZOFFSETTO:+0100
END:DAYLIGHT
END:VTIMEZONE
BEGIN:VEVENT
CATEGORIES:The Edge
CATEGORIES:Study Well
CREATED:20260422T164644
DESCRIPTION:Come along to the revision cafe and study with other students 
 in life sciences\, meet new people and improve your grades!\n\nhttps://ww
 w.thesubath.com/events/12022/22779/\n
DTEND:20260506T160000
DTSTAMP:20260423T025239Z
DTSTART:20260506T100000
LAST-MODIFIED:20260422T164644
LOCATION:The Edge Event Space
SEQUENCE:0
SUMMARY:Life Sciences Revision Cafe!
UID:f257e979-becb-4bed-a744-9fd14e65e697
URL:https://www.thesubath.com/events/12022/22779/
X-ALT-DESC;FMTTYPE=text/html:<html><head><base href="https://www.thesubath
 .com"></head><body><p>Come along to the revision cafe and study with othe
 r students in life sciences\, meet new people and improve your grades!</p
 ><p>https://www.thesubath.com/events/12022/22779/</p>\n<p>Your Faculty Re
 ps for Science have organised a revision cafe for life sciences! This is 
 a space for you to meet new people on your course and study with new peop
 le in a friendly\, casual setting! Ask one another questions and build br
 idges between year groups in a collaborative space where you can work and
  revise.</p></body></html>
END:VEVENT
END:VCALENDAR
