BEGIN:VCALENDAR
METHOD:PUBLISH
PRODID:-//github.com/rianjs/ical.net//NONSGML ical.net 4.0//EN
URL:https://www.thesubath.com/ents/event/ics/22780/
VERSION:2.0
X-PUBLISHED-TTL:PT1H
X-WR-CALNAME:Chemistry Revision Cafe (22780)
BEGIN:VTIMEZONE
TZID:GMT Standard Time
X-LIC-LOCATION:Europe/London
BEGIN:STANDARD
DTSTART:20241027T020000
RRULE:FREQ=YEARLY;BYDAY=4SU;BYMONTH=10
TZNAME:GMT
TZOFFSETFROM:+0100
TZOFFSETTO:+0000
END:STANDARD
BEGIN:DAYLIGHT
DTSTART:20250330T010000
RRULE:FREQ=YEARLY;BYDAY=-1SU;BYMONTH=3
TZNAME:BST
TZOFFSETFROM:+0000
TZOFFSETTO:+0100
END:DAYLIGHT
END:VTIMEZONE
BEGIN:VEVENT
CATEGORIES:The Edge
CATEGORIES:Study Well
CREATED:20260422T165043
DESCRIPTION:Come along to improve your grades\, meet new people and study 
 in an informal\, relaxed environement\n\nhttps://www.thesubath.com/events
 /12022/22780/\n
DTEND:20260513T160000
DTSTAMP:20260423T025320Z
DTSTART:20260513T100000
LAST-MODIFIED:20260422T165043
LOCATION:The Edge Event Space
SEQUENCE:0
SUMMARY:Chemistry Revision Cafe
UID:62ee32c0-bf50-4cd3-bcb5-4d7c0edcf62e
URL:https://www.thesubath.com/events/12022/22780/
X-ALT-DESC;FMTTYPE=text/html:<html><head><base href="https://www.thesubath
 .com"></head><body><p>Come along to improve your grades\, meet new people
  and study in an informal\, relaxed environement</p><p>https://www.thesub
 ath.com/events/12022/22780/</p>\n<p>Your Faculty Reps for Science have or
 ganised a revision cafe for life chemistry! This is a space for you to me
 et new people on your course and study with new people in a friendly\, ca
 sual setting! Ask one another questions and build bridges between year gr
 oups in a collaborative space where you can work and revise.</p></body></
 html>
END:VEVENT
END:VCALENDAR
