BEGIN:VCALENDAR
METHOD:PUBLISH
PRODID:-//github.com/rianjs/ical.net//NONSGML ical.net 4.0//EN
URL:https://www.thesubath.com/ents/event/ics/7052/
VERSION:2.0
X-PUBLISHED-TTL:PT1H
X-WR-CALNAME:Legally Blonde - Thursday Evening Performance (7052)
BEGIN:VTIMEZONE
TZID:GMT Standard Time
X-LIC-LOCATION:Europe/London
BEGIN:STANDARD
DTSTART:20241027T020000
RRULE:FREQ=YEARLY;BYDAY=4SU;BYMONTH=10
TZNAME:GMT
TZOFFSETFROM:+0100
TZOFFSETTO:+0000
END:STANDARD
BEGIN:DAYLIGHT
DTSTART:20250330T010000
RRULE:FREQ=YEARLY;BYDAY=-1SU;BYMONTH=3
TZNAME:BST
TZOFFSETFROM:+0000
TZOFFSETTO:+0100
END:DAYLIGHT
END:VTIMEZONE
BEGIN:VEVENT
CREATED:20190212T101108
DESCRIPTION:SOLD OUT!  biggest show of the year - Legally Blonde: the Musi
 cal\n\nhttps://www.thesubath.com/ents/event/7052/\n
DTEND:20190307T220000
DTSTAMP:20260424T022539Z
DTSTART:20190307T193000
LAST-MODIFIED:20201217T102853
LOCATION:The Edge Theatre
SEQUENCE:0
SUMMARY:Legally Blonde - Thursday Evening Performance
UID:10fd0680-7ff9-4123-82fb-299d006d5836
URL:https://www.thesubath.com/ents/event/7052/
X-ALT-DESC;FMTTYPE=text/html:<html><head><base href="https://www.thesubath
 .com"></head><body><p>SOLD OUT!  biggest show of the year - Legally Blond
 e: the Musical</p><p>https://www.thesubath.com/ents/event/7052/</p>\n<p>B
 ased on the novel and the hit-movie of the same name\, Legally Blonde: th
 e Musical chronicles the journey of the famously perky Elle Woods\, a fas
 hion-savvy UCLA sorority girl who finds her life turned upside down when 
 she is dumped by her boyfriend Warner. In an effort to prove to Warner th
 at she is more than just some blonde sorority girl\, she follows him to H
 arvard Law where she struggles to fit in and do well.</p>\n\n<p>A fabulou
 sly fun award-winning musical based on the adored movie\, Legally Blonde:
  the Musical follows the transformation of Elle Woods as she tackles ster
 eotypes and scandal in pursuit of her dreams. Action-packed and exploding
  with memorable songs and dynamic dances - this musical is so much fun\, 
 it should be illegal!</p>\n\n<p>Doors open at 7:00pm.</p>\n\n<p>A volunta
 ry collection for The Princess Trust will be taken on the door.</p>\n\n<p
 >The bar will be open tonight.</p></body></html>
END:VEVENT
END:VCALENDAR
